BEGIN:VCALENDAR
VERSION:2.0
PRODID:-//Training Grounds Inc. - ECPv6.15.11//NONSGML v1.0//EN
CALSCALE:GREGORIAN
METHOD:PUBLISH
X-WR-CALNAME:Training Grounds Inc.
X-ORIGINAL-URL:https://traininggroundsinc.org
X-WR-CALDESC:Events for Training Grounds Inc.
REFRESH-INTERVAL;VALUE=DURATION:PT1H
X-Robots-Tag:noindex
X-PUBLISHED-TTL:PT1H
BEGIN:VTIMEZONE
TZID:America/Detroit
BEGIN:DAYLIGHT
TZOFFSETFROM:-0500
TZOFFSETTO:-0400
TZNAME:EDT
DTSTART:20240310T070000
END:DAYLIGHT
BEGIN:STANDARD
TZOFFSETFROM:-0400
TZOFFSETTO:-0500
TZNAME:EST
DTSTART:20241103T060000
END:STANDARD
BEGIN:DAYLIGHT
TZOFFSETFROM:-0500
TZOFFSETTO:-0400
TZNAME:EDT
DTSTART:20250309T070000
END:DAYLIGHT
BEGIN:STANDARD
TZOFFSETFROM:-0400
TZOFFSETTO:-0500
TZNAME:EST
DTSTART:20251102T060000
END:STANDARD
BEGIN:DAYLIGHT
TZOFFSETFROM:-0500
TZOFFSETTO:-0400
TZNAME:EDT
DTSTART:20260308T070000
END:DAYLIGHT
BEGIN:STANDARD
TZOFFSETFROM:-0400
TZOFFSETTO:-0500
TZNAME:EST
DTSTART:20261101T060000
END:STANDARD
END:VTIMEZONE
BEGIN:VEVENT
DTSTART;TZID=America/Detroit:20250511T140000
DTEND;TZID=America/Detroit:20250511T160000
DTSTAMP:20260420T001818
CREATED:20250502T233338Z
LAST-MODIFIED:20250502T233338Z
UID:25172-1746972000-1746979200@traininggroundsinc.org
SUMMARY:The Tommy Davidson Experience
DESCRIPTION:Join us for an unforgettable afternoon where laughs\, love\, and music take center stage! This exclusive listening party and meet & greet celebrates D.C.’s own Tommy Davidson as he showcases his latest musical creations in an intimate\, one-of-a-kind setting. \nWhat to Expect:\n\nExclusive Meet & Greet with Tommy Davidson\nMusic by DJ Born Legend and performances by The District Band\nSpecial Guest Appearances\nComplimentary food and open bar including beer\, wine and soft drinks by District Bites\n\nThis immersive experience is designed for jazz lovers\, comedy fans\, and anyone looking to enjoy an elegant day of entertainment with a legend. \nPurchase your ticket now! Space is limited\, and tickets are expected to sell out quickly. Don’t miss your chance to be part of this Mother’s Day experience! \nLocation: District E Powered by Ticketmaster 701 7th St NW\, Washington\, DC 20001 \nDoors Open: 1:30 PM | Event Starts: 2:00 PM | Event Ends: 4:00 PM \nFor more information visit: districtedc.com
URL:https://traininggroundsinc.org/event/the-tommy-davidson-experience/
LOCATION:District E Powered by Ticketmaster\, 701 7th St NW\, Washington\, DC\, 20001\, United States
CATEGORIES:Community
ATTACH;FMTTYPE=image/png:https://traininggroundsinc.org/wp-content/uploads/2025/05/Tommy-D-Flyers-1.png
END:VEVENT
BEGIN:VEVENT
DTSTART;TZID=America/Detroit:20250303T100000
DTEND;TZID=America/Detroit:20250303T120000
DTSTAMP:20260420T001818
CREATED:20250207T045024Z
LAST-MODIFIED:20250223T193432Z
UID:24010-1740996000-1741003200@traininggroundsinc.org
SUMMARY:Groundbreaking Ceremony for the 3Roots Home
DESCRIPTION:YOU’RE INVITED! Groundbreaking Ceremony for the 3Roots Home\nCome join us at 5113 Emo St for a special event marking the beginning of a new chapter. Witness the first steps towards the future of this location. Let’s celebrate together as we break ground and pave the way for what’s to come. Don’t miss out on this exciting moment – see you there! \n📅 Date: Monday\, March 3\, 2025\n⏰ Time: 10:00 AM\n📍 Location: 5113 Emo Street\, Capitol Heights\, MD \nJoin us as we break ground on the 3Roots Home\, a 2\,200 sq. ft.\, 3-bedroom\, 2.5-bathroom affordable home designed for a family of four. \nThis project is a model for wealth-building\, workforce development\, and affordable home ownership—bringing together local partners to create housing solutions that strengthen our community. \nFeaturing Project Partners:\n🏗️ Within Reach Development Collective – Construction & project oversight\n🔨 Training Grounds Inc. (TGI) – Workforce development for returning citizens\n🏡 Heron Community Development – Affordable housing & project financing \nBe part of this exciting milestone as we take a step toward building a more inclusive and sustainable future for Prince George’s County! \nTo learn more visit: https://traininggroundsinc.org/3roots/
URL:https://traininggroundsinc.org/event/groundbreaking-ceremony-for-the-3roots-home/
LOCATION:DC
CATEGORIES:Community
ATTACH;FMTTYPE=image/jpeg:https://traininggroundsinc.org/wp-content/uploads/2025/02/bulldozer-breaking-ground-at-construction-site.jpg
END:VEVENT
BEGIN:VEVENT
DTSTART;TZID=America/Detroit:20250118T090000
DTEND;TZID=America/Detroit:20250118T130000
DTSTAMP:20260420T001818
CREATED:20250115T034032Z
LAST-MODIFIED:20250115T034032Z
UID:23366-1737190800-1737205200@traininggroundsinc.org
SUMMARY:20th Annual MLK Holiday DC Peace Walk & Parade
DESCRIPTION:20th Annual MLK Holiday DC Peace Walk & Parade Celebrate Dr. Martin Luther King Jr.’s legacy by joining the 20th Annual MLK Holiday DC Peace Walk & Parade. This year’s theme is “Commit to the Noble Struggle for Equal Rights.” Come together with the community to honor Dr. King’s vision of equality and justice. For more information\, visit mlkholidaydc.org.
URL:https://traininggroundsinc.org/event/20th-annual-mlk-holiday-dc-peace-walk-parade/
LOCATION:DC
CATEGORIES:Community
ATTACH;FMTTYPE=image/jpeg:https://traininggroundsinc.org/wp-content/uploads/2025/01/mlk2025-4-mlk-web-header2-1300x1080-1.jpeg
END:VEVENT
BEGIN:VEVENT
DTSTART;TZID=America/Detroit:20250115T090000
DTEND;TZID=America/Detroit:20250115T170000
DTSTAMP:20260420T001818
CREATED:20250114T011316Z
LAST-MODIFIED:20250115T034215Z
UID:23319-1736931600-1736960400@traininggroundsinc.org
SUMMARY:Training Grounds 20th Anniversary
DESCRIPTION:Celebrate Training Grounds Inc.’s 20th Anniversary! Join us as we commemorate two decades of empowering communities and transforming lives. This milestone event marks 20 years of impactful work\, and we are excited to celebrate with you. Stay tuned for special announcements and events throughout the day as we reflect on our journey and look forward to many more years of positive change.
URL:https://traininggroundsinc.org/event/training-grounds-20th-anniversary/
LOCATION:DC
CATEGORIES:Community
ATTACH;FMTTYPE=image/jpeg:https://traininggroundsinc.org/wp-content/uploads/2024/12/IMG_6950-scaled-1.jpg
END:VEVENT
END:VCALENDAR