BEGIN:VCALENDAR
VERSION:2.0
PRODID:-//Training Grounds Inc. - ECPv6.15.11//NONSGML v1.0//EN
CALSCALE:GREGORIAN
METHOD:PUBLISH
X-ORIGINAL-URL:https://traininggroundsinc.org
X-WR-CALDESC:Events for Training Grounds Inc.
REFRESH-INTERVAL;VALUE=DURATION:PT1H
X-Robots-Tag:noindex
X-PUBLISHED-TTL:PT1H
BEGIN:VTIMEZONE
TZID:America/Detroit
BEGIN:DAYLIGHT
TZOFFSETFROM:-0500
TZOFFSETTO:-0400
TZNAME:EDT
DTSTART:20240310T070000
END:DAYLIGHT
BEGIN:STANDARD
TZOFFSETFROM:-0400
TZOFFSETTO:-0500
TZNAME:EST
DTSTART:20241103T060000
END:STANDARD
BEGIN:DAYLIGHT
TZOFFSETFROM:-0500
TZOFFSETTO:-0400
TZNAME:EDT
DTSTART:20250309T070000
END:DAYLIGHT
BEGIN:STANDARD
TZOFFSETFROM:-0400
TZOFFSETTO:-0500
TZNAME:EST
DTSTART:20251102T060000
END:STANDARD
BEGIN:DAYLIGHT
TZOFFSETFROM:-0500
TZOFFSETTO:-0400
TZNAME:EDT
DTSTART:20260308T070000
END:DAYLIGHT
BEGIN:STANDARD
TZOFFSETFROM:-0400
TZOFFSETTO:-0500
TZNAME:EST
DTSTART:20261101T060000
END:STANDARD
END:VTIMEZONE
BEGIN:VEVENT
DTSTART;TZID=America/Detroit:20250329T100000
DTEND;TZID=America/Detroit:20250329T120000
DTSTAMP:20260420T015750
CREATED:20250222T080852Z
LAST-MODIFIED:20250305T034408Z
UID:24293-1743242400-1743249600@traininggroundsinc.org
SUMMARY:Installs Made Easy: Hardware DIY Like a Pro
DESCRIPTION:Ever struggled to install cabinet handles\, door locks\, shelves\, curtain rods\, or light fixtures? Whether you’re upgrading your home or tackling a DIY project\, learning the right tools\, techniques\, and tricks can make all the difference. This hands-on workshop will teach you how to measure\, drill\, anchor\, and install hardware properly to ensure a secure\, polished\, and professional-looking finish. \nAvoid common installation mistakes\, learn how to choose the right fasteners for different surfaces\, and gain the confidence to handle future home improvement projects with ease. Perfect for homeowners\, renters\, and aspiring tradespeople\, this class will give you the skills to upgrade your space with precision and style. No experience? No problem! Our expert instructors will guide you step by step. \n🔩 Hands-on training with expert guidance\n🛠️ Pro techniques for measuring\, drilling\, and securing hardware\n🏡 Learn how to install handles\, locks\, shelves\, and more—without frustration!\n💡 Tips for selecting the best tools and fasteners for every project \n📅 March 29\, 2025 | 10am-12pm \n📍 Largo Innovation Campus- 96 Harry S. Truman Drive Largo\, MD  |  \nSign up today and start installing like a pro! 🚀 \n 
URL:https://traininggroundsinc.org/event/installs-made-easy-hardware-diy-like-a-pro/
CATEGORIES:Makerspace
ATTACH;FMTTYPE=image/png:https://traininggroundsinc.org/wp-content/uploads/2025/02/3.png
END:VEVENT
BEGIN:VEVENT
DTSTART;TZID=America/Detroit:20250322T100000
DTEND;TZID=America/Detroit:20250322T120000
DTSTAMP:20260420T015750
CREATED:20250222T080530Z
LAST-MODIFIED:20250305T034316Z
UID:24290-1742637600-1742644800@traininggroundsinc.org
SUMMARY:Brush Up: Interior Painting Tips
DESCRIPTION:Want to refresh your space with a flawless\, professional-quality paint job? This hands-on workshop will teach you expert painting techniques—from prepping surfaces and cutting in clean lines to choosing the right brushes\, rollers\, and finishes for any project. Whether you’re tackling a single accent wall or an entire home\, you’ll gain the skills and confidence to get it done right the first time! Perfect for homeowners\, renters\, and aspiring tradespeople. No experience? No problem! Our expert instructors will guide you every step of the way. \n🎨 Hands-on training with expert guidance\n🖌️ Pro tips for clean lines and smooth finishes\n🏡 Learn the best tools\, paints\, and prep techniques \n📅 March 22\, 2025 | 10am-12pm \n📍 Largo Innovation Campus – 96 Harry S. Truman Drive Largo\, MD \n 
URL:https://traininggroundsinc.org/event/brush-up-interior-painting-tips/
CATEGORIES:Makerspace
ATTACH;FMTTYPE=image/png:https://traininggroundsinc.org/wp-content/uploads/2025/02/4.png
END:VEVENT
BEGIN:VEVENT
DTSTART;TZID=America/Detroit:20250315T100000
DTEND;TZID=America/Detroit:20250315T120000
DTSTAMP:20260420T015750
CREATED:20250222T080113Z
LAST-MODIFIED:20250305T034108Z
UID:24280-1742032800-1742040000@traininggroundsinc.org
SUMMARY:Patch It Perfect: Drywall Repair Made Easy
DESCRIPTION:Patch It Perfect: Drywall Repair & Installation Made Easy \nEver had a hole in your wall and no idea how to fix it? Whether you’re a DIY enthusiast or looking to build hands-on skills\, this interactive workshop will teach you the fundamentals of drywall repair and installation—from patching small dings to replacing entire sections like a pro. Learn how to cut\, tape\, mud\, and sand for seamless\, professional-looking results. Perfect for homeowners\, renters\, and aspiring tradespeople\, this class will equip you with the confidence and techniques to tackle drywall projects with ease. No experience? No problem! Our expert instructors will guide you step by step. \n🔨 Hands-on learning\n🎨 Pro tips for smooth finishes\n🏠 Walk away with practical skills you can use immediately \nSign up today and start patching like a pro! 🚀 \n📅 March 15\, 2025 | 10am-12pm \n📍 Largo Innovation Campus – 96 Harry S. Truman Drive Largo\, MD   
URL:https://traininggroundsinc.org/event/patch-it-perfect-drywall-repair-made-easy/
CATEGORIES:Makerspace
ATTACH;FMTTYPE=image/jpeg:https://traininggroundsinc.org/wp-content/uploads/2025/02/african-american-construction-worker-repairing-window-in-house.jpg
END:VEVENT
END:VCALENDAR