BEGIN:VCALENDAR
VERSION:2.0
PRODID:-//Training Grounds Inc. - ECPv6.15.11//NONSGML v1.0//EN
CALSCALE:GREGORIAN
METHOD:PUBLISH
X-WR-CALNAME:Training Grounds Inc.
X-ORIGINAL-URL:https://traininggroundsinc.org
X-WR-CALDESC:Events for Training Grounds Inc.
REFRESH-INTERVAL;VALUE=DURATION:PT1H
X-Robots-Tag:noindex
X-PUBLISHED-TTL:PT1H
BEGIN:VTIMEZONE
TZID:America/Detroit
BEGIN:DAYLIGHT
TZOFFSETFROM:-0500
TZOFFSETTO:-0400
TZNAME:EDT
DTSTART:20240310T070000
END:DAYLIGHT
BEGIN:STANDARD
TZOFFSETFROM:-0400
TZOFFSETTO:-0500
TZNAME:EST
DTSTART:20241103T060000
END:STANDARD
BEGIN:DAYLIGHT
TZOFFSETFROM:-0500
TZOFFSETTO:-0400
TZNAME:EDT
DTSTART:20250309T070000
END:DAYLIGHT
BEGIN:STANDARD
TZOFFSETFROM:-0400
TZOFFSETTO:-0500
TZNAME:EST
DTSTART:20251102T060000
END:STANDARD
BEGIN:DAYLIGHT
TZOFFSETFROM:-0500
TZOFFSETTO:-0400
TZNAME:EDT
DTSTART:20260308T070000
END:DAYLIGHT
BEGIN:STANDARD
TZOFFSETFROM:-0400
TZOFFSETTO:-0500
TZNAME:EST
DTSTART:20261101T060000
END:STANDARD
END:VTIMEZONE
BEGIN:VEVENT
DTSTART;TZID=America/Detroit:20250211T100000
DTEND;TZID=America/Detroit:20250211T120000
DTSTAMP:20260420T011900
CREATED:20250115T041243Z
LAST-MODIFIED:20250122T024957Z
UID:23376-1739268000-1739275200@traininggroundsinc.org
SUMMARY:Final Welcome Home Program Information Session
DESCRIPTION:Final Welcome Home Program Information Session Don’t miss the final opportunity to learn about the Welcome Home Program.\nJoin us for the Welcome Home to Prince George’s County Information Session and discover how our comprehensive program can support your journey to success. Our sessions will provide detailed insights into the various benefits and opportunities available through our program\, designed specifically for returning citizens. \nThis session will be held at Prince George’s Community College Skill Trades Center at 6400 Old Branch Ave\, Temple Hills\, MD. Click here to register.
URL:https://traininggroundsinc.org/event/final-welcome-home-program-information-session/
LOCATION:Prince George’s Community College Skill Trades Center\, 6400 Old Branch Ave\, Temple Hills\, MD\, 20748\, United States
CATEGORIES:Workforce Development
ATTACH;FMTTYPE=image/png:https://traininggroundsinc.org/wp-content/uploads/2025/01/Welcome-Home-Flyers-LinkedIn-Post.png
END:VEVENT
BEGIN:VEVENT
DTSTART;TZID=America/Detroit:20250205T100000
DTEND;TZID=America/Detroit:20250205T120000
DTSTAMP:20260420T011900
CREATED:20250115T041026Z
LAST-MODIFIED:20250122T050621Z
UID:23374-1738749600-1738756800@traininggroundsinc.org
SUMMARY:Welcome Home Program Information Session 2
DESCRIPTION:Join us for the Welcome Home to Prince George’s County Information Session and discover how this comprehensive program can support your journey to success. This information sessions will provide detailed insights into the various benefits and opportunities available through our program\, designed specifically for returning citizens. \nLocation: 6400 Old Branch Ave\, Temple Hills\, MD. \nRegister Now\nSpace is limited. Don’t miss this opportunity to gain valuable insights and start your journey to a brighter future. Click here to register for the information session.
URL:https://traininggroundsinc.org/event/welcome-home-program-information-session-2/
CATEGORIES:Workforce Development
ATTACH;FMTTYPE=image/png:https://traininggroundsinc.org/wp-content/uploads/2025/01/Welcome-Home-Flyers-LinkedIn-Post.png
END:VEVENT
BEGIN:VEVENT
DTSTART;TZID=America/Detroit:20250129T100000
DTEND;TZID=America/Detroit:20250129T120000
DTSTAMP:20260420T011900
CREATED:20250115T040516Z
LAST-MODIFIED:20250122T050611Z
UID:23372-1738144800-1738152000@traininggroundsinc.org
SUMMARY:Welcome Home Program Information Session 1
DESCRIPTION:Join us for the Welcome Home to Prince George’s County Information Session and discover how this comprehensive program can support your journey to success. This information sessions will provide detailed insights into the various benefits and opportunities available through our program\, designed specifically for returning citizens. \n Location: 6400 Old Branch Ave\, Temple Hills\, MD. \nRegister Now\nSpace is limited. Don’t miss this opportunity to gain valuable insights and start your journey to a brighter future. Click here to register for the information session.
URL:https://traininggroundsinc.org/event/welcome-home-program-information-session/
CATEGORIES:Workforce Development
ATTACH;FMTTYPE=image/png:https://traininggroundsinc.org/wp-content/uploads/2025/01/Welcome-Home-Flyers-LinkedIn-Post.png
END:VEVENT
BEGIN:VEVENT
DTSTART;TZID=America/Detroit:20250123T100000
DTEND;TZID=America/Detroit:20250123T110000
DTSTAMP:20260420T011900
CREATED:20250115T040238Z
LAST-MODIFIED:20250115T040238Z
UID:23370-1737626400-1737630000@traininggroundsinc.org
SUMMARY:Welcome Home Program Virtual Kick-Off Meeting
DESCRIPTION:Welcome Home Program Virtual Kick-Off Meeting Kick off the Welcome Home Program with us virtually! This meeting will introduce the program\, its objectives\, and key partners. Returning citizens\, community members\, and stakeholders are invited to join. Register at here.
URL:https://traininggroundsinc.org/event/welcome-home-program-virtual-kick-off-meeting/
CATEGORIES:Workforce Development
ATTACH;FMTTYPE=image/jpeg:https://traininggroundsinc.org/wp-content/uploads/2024/12/young-african-american-businessman-working-with-co-2024-10-17-12-53-52-utc-scaled.jpg
END:VEVENT
END:VCALENDAR